BEGIN:VCALENDAR
VERSION:2.0
PRODID:-//La Madriguera Azul - ECPv6.3.3.1//NONSGML v1.0//EN
CALSCALE:GREGORIAN
METHOD:PUBLISH
X-WR-CALNAME:La Madriguera Azul
X-ORIGINAL-URL:https://www.lamadrigueraazul.com
X-WR-CALDESC:Eventos para La Madriguera Azul
REFRESH-INTERVAL;VALUE=DURATION:PT1H
X-Robots-Tag:noindex
X-PUBLISHED-TTL:PT1H
BEGIN:VTIMEZONE
TZID:Europe/Madrid
BEGIN:DAYLIGHT
TZOFFSETFROM:+0100
TZOFFSETTO:+0200
TZNAME:CEST
DTSTART:20230326T010000
END:DAYLIGHT
BEGIN:STANDARD
TZOFFSETFROM:+0200
TZOFFSETTO:+0100
TZNAME:CET
DTSTART:20231029T010000
END:STANDARD
END:VTIMEZONE
BEGIN:VEVENT
DTSTART;VALUE=DATE:20230526
DTEND;VALUE=DATE:20230529
DTSTAMP:20260421T201220
CREATED:20230223T085343Z
LAST-MODIFIED:20230223T085343Z
UID:1425-1685059200-1685318399@www.lamadrigueraazul.com
SUMMARY:Taller Clown: Paya@s Sagrad@s
DESCRIPTION:https://www.lamadrigueraazul.com/wp-content/uploads/2023/02/VIDEO-2023-01-27-16-15-32.mp4
URL:https://www.lamadrigueraazul.com/evento/taller-clown-payas-sagrads/
LOCATION:La madriguera azul\, Camino la Isequilla nº97\, Secadura- Voto\, Cantabria\, 39764\, España
END:VEVENT
END:VCALENDAR