BEGIN:VCALENDAR
VERSION:2.0
PRODID:-//La Madriguera Azul - ECPv6.3.3.1//NONSGML v1.0//EN
CALSCALE:GREGORIAN
METHOD:PUBLISH
X-ORIGINAL-URL:https://www.lamadrigueraazul.com
X-WR-CALDESC:Eventos para La Madriguera Azul
REFRESH-INTERVAL;VALUE=DURATION:PT1H
X-Robots-Tag:noindex
X-PUBLISHED-TTL:PT1H
BEGIN:VTIMEZONE
TZID:Europe/Madrid
BEGIN:DAYLIGHT
TZOFFSETFROM:+0100
TZOFFSETTO:+0200
TZNAME:CEST
DTSTART:20230326T010000
END:DAYLIGHT
BEGIN:STANDARD
TZOFFSETFROM:+0200
TZOFFSETTO:+0100
TZNAME:CET
DTSTART:20231029T010000
END:STANDARD
END:VTIMEZONE
BEGIN:VEVENT
DTSTART;VALUE=DATE:20231202
DTEND;VALUE=DATE:20231203
DTSTAMP:20260422T044236
CREATED:20231121T124655Z
LAST-MODIFIED:20231121T124655Z
UID:1480-1701475200-1701561599@www.lamadrigueraazul.com
SUMMARY:CONSTELACIONES FAMILIARES
DESCRIPTION:  \nCONSTELACIONES FAMILIARES\nY ENRAIZAMIENTO CORPORAL\nLas heridas de nuestra vida (especialmente de la infancia y adolescencia)\, así \ncomo la información que se nos transmite a través del transgeneracional \n(información de nuestro árbol genealógico\, de nuestra familia de origen)\, \nmodelan el adulto/a\, hombre mujer que somos hoy en día. \nSi podemos identificarlas\, reconocerlas y sanarlas\, seremos adultos sanos que \nnos haremos cargo y responsables de nuestras propias vidas. Así podremos \ndejar ir\, soltar lo que no es nuestro\, tomando nuestro lugar\, aquel que nos \npertenece\, alineados con nuestro propósito y nuestra vida. \nEstas heridas se quedan ancladas en nuestro cuerpo y en nuestra psique\, por \neso hemos creado esta experiencia\, para poder reconocerlas a través del \nenraizamiento corporal y de las constelaciones familiares. \nCONSTELACIONES FAMILIARES\nLas constelaciones familiares son una herramienta terapéutica que nos permite \ntomar conciencia de aquello que está sumergido en nuestro inconsciente y en el \nde nuestro sistema familiar. \nA través de las constelaciones\, podemos indagar\, cuáles son los patrones\, \nlealtades\, repeticiones inconscientes que cargamos y por las cuales sacrificamos \npartes de nuestra vida. El dar luz a estas heridas\, nos ayuda a tomar conciencia \ny por consiguiente nos permite cambiarlo\, soltarlo o transformarlo\, en armonía \ncon nuestra vida y nuestro destino. \nA través del transgeneracional (estudio de nuestro árbol genealógico)\, tenemos \nla posibilidad de conquistar nuestra libertad y de salir del destino repetitivo de \nnuestra historia\, si comprendemos los complejos vínculos que han tejido \nnuestra historia familiar. \nTomar conciencia del entramado de nuestro inconsciente nos permite liberarnos \ny soltar aquellas cargas\, repeticiones o lealtades que no nos pertenecen. \nRestablecer el justo orden y equilibrio\, reintegrando a aquellos que han sido \nexcluidos o no vistos\, desanudando los núcleos de dolor\, se encuentra la \narmonía\, paz\, a mor y gratitud. \n  \nEJEMPLOS DE TEMAS A CONSTELAR: \n– Familia de origen \n– Enfermedades o síntomas. \n– Relación de pareja \n– Trabajo\, dinero\, autorrealización y éxito \n– Afectividad y sexualidad \n– Excluidos del sistema (abortos desaparecidos…) \n– Roles de víctima verdugo \n– Sentimientos de culpa\, cargas\, nudos familiares \n– Movimiento interrumpido de amor… \nEl árbol está vivo dentro de mí\, yo soy el árbol\, yo soy toda mi familia. \n  \nABORDAJE Y ENRAIZAMIENTO CORPORAL \n“Tener un cuerpo y transportarlo por el mundo parece natural; hay personas que \nbailan o caminan como si fuera natural hacerlo\, y otras que necesitan pequeños \napoyos. Yo necesité una multitud de trucos que me pudieran sostener” \nEntraremos en nuestro cuerpo combinando ejercicios de Yoga\, meditación y el \ntratamiento bioenergético. \nEl tratamiento bioenergético nos invita a hacerlo a través de una serie de \nejercicios corporales entre los que se encuentran desbloqueos o ejercicios que \npromueven la energización del usuario. También ayuda a fomentar la \nrespiración o el libre fluir de la energía de nuestro cuerpo. \nAcudiremos al sentir del cuerpo para conocer las memorias que guardamos en \nél y su utilización como propia medicina. \n¿A QUIEN VA DIRIGIDO? \nTodo aquel que quiera abrirse al conocimiento y a la indagación de nuestra \nhistoria familiar\, explorando y tomando conciencia de bloqueos que se originan \nen nuestra vida. \nEs importante tener apertura para el trabajo en grupo para explorar temáticas \npersonales. \n  \n¿QUIENES SOMOS?\nEsther Rodríguez: Facilitadora en Constelaciones familiares \ndesde 2012 por la escuela holística la Citta della luce (Italia). \nMediadora familiar y Educadora social Universidad \nComplutense Madrid. Continúa sus estudios como terapeuta \nGestalt especializada en adolescencia y familia ITG Valencia. \nVerónica Marín: Profesora de Yoga\, meditación y conciencia \ncorporal. Facilitadora Reiki. \nFacilitadora de círculos\, talleres y ritos de paso enfocados a la \nsabiduría ancestral femenina. \nLA MADRIGUERA AZUL \nLa elección de La madriguera azul ha sido por su enclave en plena naturaleza\, \nbrindando a esta experiencia un espacio íntimo\, en el silencio del bosque que \nnos ayudará a conectar y generar sentido a nuestra creación. \nNos ofrece la contemplación\, como herramienta clave para entender lo que nos \ntrasciende y de lo que formamos parte\, cobra intensidad aquí en la Naturaleza. \nComo en una madriguera\, adéntrate y deja que la vida te sorprenda. \n¿QUE INCLUYE? \n Constelaciones familiares \nAbordaje y enraizamiento corporal \nMeditación \n Comida saludable ( Plato principal y fruta ) \n Té e infusiones \n Domo de 60m2 diáfanos para la realización del taller \n Casa para descansar durante el día \nEspacio en la naturaleza idílico para disfrutar y conectar \nHORARIO \nDía 2 de Diciembre de 9:30h a 19:00 aprox. \nCon una hora y media de descanso al mediodía para la comida y descansar. \nSe ruega estar 15 minutos antes de la iniciación del taller. \nSi el día 2 de Diciembre las plazas se llenan abriremos la posibilidad de realizarlo el \ndomingo dia 3. \nPRECIO \n135 euros ( Si vienes a constelar ) \n55 euros ( Si vienes como representante )  \nNo incluye pero hay posibilidad de reservar: \nEstancia de una noche si deseas dormir el día antes o el mismo día del taller o \nambos. Consultar precios con La Madriguera Azul: 647417888 \nFORMA DE INSCRIPCION \nPara reservar plaza como representante se abonará 25 euros y en el \nencuentro el resto del monto. \nPara la reserva de la constelación se abonará el 40% del total y en el \nencuentro el resto del monto. \nPara garantizar una experiencia de calidad\, las plazas son limitadas a 7 \npersonas para constelar. \n Para representantes no hay limitación de plazas. \nLas reservas se realizarán al teléfono 633 916 434 y os comunicaremos la \nforma de pago. \n“Que al fin y al cabo no somos un manojo de viejas identidades. \nSomos nuestra historia y mucho más que ella.\nQue no saber quiénes somos es signo de que estamos vivos y abiertos a la vida.\nQue lo que hoy somos\, nos permita SER.\nY que cada transformación nos habilite a brillar\, cada vez un poco más.”
URL:https://www.lamadrigueraazul.com/evento/constelaciones-familiares/
END:VEVENT
END:VCALENDAR