BEGIN:VCALENDAR
VERSION:2.0
PRODID:-//La Madriguera Azul - ECPv6.3.3.1//NONSGML v1.0//EN
CALSCALE:GREGORIAN
METHOD:PUBLISH
X-ORIGINAL-URL:https://www.lamadrigueraazul.com
X-WR-CALDESC:Eventos para La Madriguera Azul
REFRESH-INTERVAL;VALUE=DURATION:PT1H
X-Robots-Tag:noindex
X-PUBLISHED-TTL:PT1H
BEGIN:VTIMEZONE
TZID:Europe/Madrid
BEGIN:DAYLIGHT
TZOFFSETFROM:+0100
TZOFFSETTO:+0200
TZNAME:CEST
DTSTART:20240331T010000
END:DAYLIGHT
BEGIN:STANDARD
TZOFFSETFROM:+0200
TZOFFSETTO:+0100
TZNAME:CET
DTSTART:20241027T010000
END:STANDARD
END:VTIMEZONE
BEGIN:VEVENT
DTSTART;TZID=Europe/Madrid:20240329T110000
DTEND;TZID=Europe/Madrid:20240331T170000
DTSTAMP:20260422T115717
CREATED:20240111T221857Z
LAST-MODIFIED:20240111T221857Z
UID:1484-1711710000-1711904400@www.lamadrigueraazul.com
SUMMARY:RETIRO ESPIRITUAL ALMA Y CUERPO
DESCRIPTION:Un fin de semana para ti\, para tu cuerpo y tu alma. Ven a disfrutar del Yoga y muchas sorpresas mas rodeada de naturaleza\, sintiéndote parte de ella\, volviendo al cuerpo y su esencia. \nMARZO 29 AL 31 2024 \nMas info y reserva de plaza 658906444 / 671351671
URL:https://www.lamadrigueraazul.com/evento/retiro-espiritual-alma-y-cuerpo/
END:VEVENT
BEGIN:VEVENT
DTSTART;TZID=Europe/Madrid:20240331T193000
DTEND;TZID=Europe/Madrid:20240331T193000
DTSTAMP:20260422T115717
CREATED:20240328T104750Z
LAST-MODIFIED:20240328T104750Z
UID:1585-1711913400-1711913400@www.lamadrigueraazul.com
SUMMARY:CANTAUCIONES concierto
DESCRIPTION:CANTAUCIONES es un experiencia musical que plantea un viaje al pais de las emociones y las cosas sencillas de la vida\, a través de una colorida diversidad de canciones y textos en busca de resonancia. \nAnimate a disfrutar de la buena musiquita.. \n 
URL:https://www.lamadrigueraazul.com/evento/cantauciones-concierto/
END:VEVENT
END:VCALENDAR