BEGIN:VCALENDAR
VERSION:2.0
PRODID:-//La Madriguera Azul - ECPv6.3.3.1//NONSGML v1.0//EN
CALSCALE:GREGORIAN
METHOD:PUBLISH
X-ORIGINAL-URL:https://www.lamadrigueraazul.com
X-WR-CALDESC:Eventos para La Madriguera Azul
REFRESH-INTERVAL;VALUE=DURATION:PT1H
X-Robots-Tag:noindex
X-PUBLISHED-TTL:PT1H
BEGIN:VTIMEZONE
TZID:Europe/Madrid
BEGIN:DAYLIGHT
TZOFFSETFROM:+0100
TZOFFSETTO:+0200
TZNAME:CEST
DTSTART:20240331T010000
END:DAYLIGHT
BEGIN:STANDARD
TZOFFSETFROM:+0200
TZOFFSETTO:+0100
TZNAME:CET
DTSTART:20241027T010000
END:STANDARD
END:VTIMEZONE
BEGIN:VEVENT
DTSTART;TZID=Europe/Madrid:20240413T100000
DTEND;TZID=Europe/Madrid:20240414T163000
DTSTAMP:20260422T132409
CREATED:20240328T104155Z
LAST-MODIFIED:20240328T104155Z
UID:1577-1713002400-1713112200@www.lamadrigueraazul.com
SUMMARY:Viaje al Centro del Poder
DESCRIPTION:  \nCONTENIDOS:\n\n\nEspacio de pensamiento colectivo ‘Viaje al centro de mi tierra’. Pondremos en común cuáles son nuestros soportes\, qué soportes son los de la autora en el libro y con cuáles nos sentimos identificadas. Cuáles son sus dudas y con cuáles nos sentimos identificadas ¿Qué es un soporte? ¿Cuál es la función del soporte? ¿Cuál creo que es mi soporte emocional? ¿Para qué uso los soportes en mi día a día?\nSÁBADO 13 Taller de movimiento ‘El soporte’: En la sesión de mañana\, exploraremos el cuerpo como soporte. Soportes con diferentes funcionalidades: el descanso\, el apoyo\, el impulso… y con diferentes alturas: cuerpo-tierra\, cuerpo-tumbona\, cuerpo-sofá\, cuerpo-muro\, cuerpo-elevador… En la sesión de tarde\, recuperamos materiales\, ordenamos secuencias y definimos ritmos para trasladar la exploración corporal al campo coreográfico.\nDOMINGO 14 Solo de danza ‘el podeR de lo amoRoso‘: Solo de danza contemporánea dedicado a la etapa de la crianza. Rebeca García Celdrán presenta por primera vez este solo adaptado a espacios no convencionales.\n\n\nPRECIO:\n\n\nSábado: Las actividades incluyen desayuno y tienen un coste de 55€ si se ingresa hasta el 5 de abril y 65€ a partir del 6 de abril.\nDomingo: tiene un coste de 10€ si se ingresa hasta el 5 de abril y 12€ a partir del 6 de abril.\nSábado + domingo sin estancia (*): 60€ hasta el 5 de abril y 75€ a partir del 6 de abril.\n\n\n\n(*) La Madriguera Azul ofrece la posibilidad de pasar allí la noche del sábado en habitación compartida o en tu propia furgoneta (Preguntanos por los precios 670307375).\n \n\nEsperamos veros.\nLeyendo y bailando.\n \n—  \n\n\n\n\n\n\n\n\n\n\nwww.mymadder.es\n\n+34-686 15 13 03 / 661 81 58 66\nSíguenos en Facebook y en Vimeo
URL:https://www.lamadrigueraazul.com/evento/viaje-al-centro-del-poder/
END:VEVENT
END:VCALENDAR