BEGIN:VCALENDAR
VERSION:2.0
PRODID:-//La Madriguera Azul - ECPv6.3.3.1//NONSGML v1.0//EN
CALSCALE:GREGORIAN
METHOD:PUBLISH
X-ORIGINAL-URL:https://www.lamadrigueraazul.com
X-WR-CALDESC:Eventos para La Madriguera Azul
REFRESH-INTERVAL;VALUE=DURATION:PT1H
X-Robots-Tag:noindex
X-PUBLISHED-TTL:PT1H
BEGIN:VTIMEZONE
TZID:Europe/Madrid
BEGIN:DAYLIGHT
TZOFFSETFROM:+0100
TZOFFSETTO:+0200
TZNAME:CEST
DTSTART:20240331T010000
END:DAYLIGHT
BEGIN:STANDARD
TZOFFSETFROM:+0200
TZOFFSETTO:+0100
TZNAME:CET
DTSTART:20241027T010000
END:STANDARD
BEGIN:DAYLIGHT
TZOFFSETFROM:+0100
TZOFFSETTO:+0200
TZNAME:CEST
DTSTART:20250330T010000
END:DAYLIGHT
BEGIN:STANDARD
TZOFFSETFROM:+0200
TZOFFSETTO:+0100
TZNAME:CET
DTSTART:20251026T010000
END:STANDARD
END:VTIMEZONE
BEGIN:VEVENT
DTSTART;TZID=Europe/Madrid:20240413T100000
DTEND;TZID=Europe/Madrid:20240414T163000
DTSTAMP:20260423T004755
CREATED:20240328T104155Z
LAST-MODIFIED:20240328T104155Z
UID:1577-1713002400-1713112200@www.lamadrigueraazul.com
SUMMARY:Viaje al Centro del Poder
DESCRIPTION:  \nCONTENIDOS:\n\n\nEspacio de pensamiento colectivo ‘Viaje al centro de mi tierra’. Pondremos en común cuáles son nuestros soportes\, qué soportes son los de la autora en el libro y con cuáles nos sentimos identificadas. Cuáles son sus dudas y con cuáles nos sentimos identificadas ¿Qué es un soporte? ¿Cuál es la función del soporte? ¿Cuál creo que es mi soporte emocional? ¿Para qué uso los soportes en mi día a día?\nSÁBADO 13 Taller de movimiento ‘El soporte’: En la sesión de mañana\, exploraremos el cuerpo como soporte. Soportes con diferentes funcionalidades: el descanso\, el apoyo\, el impulso… y con diferentes alturas: cuerpo-tierra\, cuerpo-tumbona\, cuerpo-sofá\, cuerpo-muro\, cuerpo-elevador… En la sesión de tarde\, recuperamos materiales\, ordenamos secuencias y definimos ritmos para trasladar la exploración corporal al campo coreográfico.\nDOMINGO 14 Solo de danza ‘el podeR de lo amoRoso‘: Solo de danza contemporánea dedicado a la etapa de la crianza. Rebeca García Celdrán presenta por primera vez este solo adaptado a espacios no convencionales.\n\n\nPRECIO:\n\n\nSábado: Las actividades incluyen desayuno y tienen un coste de 55€ si se ingresa hasta el 5 de abril y 65€ a partir del 6 de abril.\nDomingo: tiene un coste de 10€ si se ingresa hasta el 5 de abril y 12€ a partir del 6 de abril.\nSábado + domingo sin estancia (*): 60€ hasta el 5 de abril y 75€ a partir del 6 de abril.\n\n\n\n(*) La Madriguera Azul ofrece la posibilidad de pasar allí la noche del sábado en habitación compartida o en tu propia furgoneta (Preguntanos por los precios 670307375).\n \n\nEsperamos veros.\nLeyendo y bailando.\n \n—  \n\n\n\n\n\n\n\n\n\n\nwww.mymadder.es\n\n+34-686 15 13 03 / 661 81 58 66\nSíguenos en Facebook y en Vimeo
URL:https://www.lamadrigueraazul.com/evento/viaje-al-centro-del-poder/
END:VEVENT
BEGIN:VEVENT
DTSTART;TZID=Europe/Madrid:20240428T110000
DTEND;TZID=Europe/Madrid:20240428T130000
DTSTAMP:20260423T004755
CREATED:20240409T114354Z
LAST-MODIFIED:20240409T114354Z
UID:1612-1714302000-1714309200@www.lamadrigueraazul.com
SUMMARY:MOVIMIENTO AUTÉNTICO taller de mañana 11:00 a 13:00
DESCRIPTION:Abrimos este espacio para dejar que el cuerpo sea movido por aquello que necesita ser visto\, ser atendido. Un lugar seguro donde moverse sin juicios\, sin expectativas. Darse el tiempo para desarrollar nuestro testigo interno y compartir nuestro SER. \nFacilitado por Sarah Rodríguez Cigaran \nDra\, en Psicología\, DMT\, Miembro supervisor registrado de la ADMTE y practicante del Movimiento Auténtico desde hace más de 20 años. \nDomingo 28 de Abril 11:00 a 13:00 \nSecadura-Voto \n+ info y reserva tu plaza: 670307375
URL:https://www.lamadrigueraazul.com/evento/movimiento-autentico-taller-de-manana-1100-a-1300/
END:VEVENT
BEGIN:VEVENT
DTSTART;TZID=Europe/Madrid:20240430T200000
DTEND;TZID=Europe/Madrid:20240430T220000
DTSTAMP:20260423T004755
CREATED:20240425T175819Z
LAST-MODIFIED:20240425T175819Z
UID:1638-1714507200-1714514400@www.lamadrigueraazul.com
SUMMARY:CONCIERTO Los fenómenos costeros
DESCRIPTION:
URL:https://www.lamadrigueraazul.com/evento/concierto-los-fenomenos-costeros/
END:VEVENT
BEGIN:VEVENT
DTSTART;TZID=Europe/Madrid:20240504T150000
DTEND;TZID=Europe/Madrid:20240505T133000
DTSTAMP:20260423T004755
CREATED:20240328T124231Z
LAST-MODIFIED:20240328T124545Z
UID:1597-1714834800-1714915800@www.lamadrigueraazul.com
SUMMARY:PALABRA MADRE Medicina circular & escritura terapéutica
DESCRIPTION:   \n \n  \n 
URL:https://www.lamadrigueraazul.com/evento/palabra-madre-medicina-circular-escritura-terapeutica/
END:VEVENT
BEGIN:VEVENT
DTSTART;TZID=Europe/Madrid:20240511T170000
DTEND;TZID=Europe/Madrid:20240511T223000
DTSTAMP:20260423T004755
CREATED:20240409T164917Z
LAST-MODIFIED:20240409T164917Z
UID:1624-1715446800-1715466600@www.lamadrigueraazul.com
SUMMARY:SER EN LA VOZ Taller & Concierto con La BALDOSA FLOTANTE
DESCRIPTION:Sábado 11 de Mayo \nTaller » SER EN LA VOZ» (17:00 a 20:00 horas) \nDirigido a personas (con o sin experiencia en el trabajo vocal) que deseen mejorar su relación con la voz\, jugando y probando desde un enfoque musicoterapéutico. \n\nEscuchando y exlorando las vibraciones de nuestro propio cuerpo\nConectando con nuestro sonido e iniciándonos en escalas de India y el mundo\nParticipando en el canto y la escucha dentro del grupo\, formando círculos de voces\nCantando canciones\n\nImparte: David Larrinaga Musicoterapeuta\, compositor\, cantante\, músico multiintrumentista \ntras el taller…. \nSESIÓN MUSICAL (20:30 horas) \nLA BALDOSA FLOTANTE en solitario\, con guitarra\, voz\, sitar\, interpretando canciones nuevas\, canciones clásicas\, invitando a una experiencia colectiva. \nAportación: \nTaller 35€ / Concierto 12€ / Taller+Concierto: 40€ \nInfo y Reservas \n647417888 (Elker) \n677877227 (David)
URL:https://www.lamadrigueraazul.com/evento/ser-en-la-voz-taller-concierto-con-la-baldosa-flotante/
END:VEVENT
BEGIN:VEVENT
DTSTART;TZID=Europe/Madrid:20240526T110000
DTEND;TZID=Europe/Madrid:20240526T140000
DTSTAMP:20260423T004755
CREATED:20240510T111935Z
LAST-MODIFIED:20240510T111935Z
UID:1642-1716721200-1716732000@www.lamadrigueraazul.com
SUMMARY:Movimiento Auténtico
DESCRIPTION:Abrimos este espacio una vez mas para entregarnos al encuentro de una misma y el grupo. \nA través de la escucha profunda de nuestro cuerpo\, atender lo que necesita ser visto. \nEn el DOMO MANDORLA de la madriguera azul\, Domingo 26 de Mayo\, de 11:00 a 14:00 horas. \nAportación 30€ \nTe esperamos! reserva tu lugar 670307375 \nAcompaña Sarah Rodríguez Cigaran \n@sarahrcigaran
URL:https://www.lamadrigueraazul.com/evento/movimiento-autentico-2/
END:VEVENT
BEGIN:VEVENT
DTSTART;TZID=Europe/Madrid:20240801T100000
DTEND;TZID=Europe/Madrid:20240805T143000
DTSTAMP:20260423T004755
CREATED:20240328T114710Z
LAST-MODIFIED:20240328T114710Z
UID:1589-1722506400-1722868200@www.lamadrigueraazul.com
SUMMARY:RETIRO DE VERANO YOGA RAIZ- INDAGACIÓN INTERIOR - DESCANSO
DESCRIPTION: 
URL:https://www.lamadrigueraazul.com/evento/retiro-de-verano-yoga-raiz-indagacion-interior-descanso/
END:VEVENT
BEGIN:VEVENT
DTSTART;TZID=Europe/Madrid:20250628T110000
DTEND;TZID=Europe/Madrid:20250628T123000
DTSTAMP:20260423T004755
CREATED:20250610T092426Z
LAST-MODIFIED:20250610T092426Z
UID:1668-1751108400-1751113800@www.lamadrigueraazul.com
SUMMARY:Arte\, Naturaleza & Juego en Familia
DESCRIPTION:🪸🌱🌵🌒🌳🏡\nArte\, Naturaleza & Juego en Familia\n\nTe invitamos a vivir una experiencia inolvidable en familia través del juego y la expresión artística.\n\n☘️☄️🦎En la naturaleza.\nEn el maravilloso espacio en Secadura (Cantabria) @lamadrigueraazul\n¡Un planazo!\n\n📌 Juego & Danza\n🗓️ 28 Junio\, 11:00-12:30\n🔺Con Esti Olabarri @esti_olabarri\n🔻kaixo@estiolabarri.com | 722472264\n♦️15€/persona\n\n\n¡¡Plazas limitadas‼️\n¡Os esperamos!
URL:https://www.lamadrigueraazul.com/evento/arte-naturaleza-juego-en-familia/
LOCATION:La madriguera azul\, Camino la Isequilla nº97\, Secadura- Voto\, Cantabria\, 39764\, España
END:VEVENT
BEGIN:VEVENT
DTSTART;TZID=Europe/Madrid:20250705T110000
DTEND;TZID=Europe/Madrid:20250705T130000
DTSTAMP:20260423T004755
CREATED:20250610T092615Z
LAST-MODIFIED:20250610T092615Z
UID:1672-1751713200-1751720400@www.lamadrigueraazul.com
SUMMARY:Arte Naturaleza & Familia (2)
DESCRIPTION:📌 Juego & Barro\n🗓️ 5 Julio\, 11:00-13:00\n🔺Con Cristina Sahuquillo\n@_labrujula_ & Luis Figueroa\n🔻info@labrujula.de | 644154057\n♦️45€/familia (2 personas)\nPlazas Limitadas!!\nOs esperamos!!
URL:https://www.lamadrigueraazul.com/evento/arte-naturaleza-familia-2/
END:VEVENT
END:VCALENDAR