BEGIN:VCALENDAR
VERSION:2.0
PRODID:-//La Madriguera Azul - ECPv6.3.3.1//NONSGML v1.0//EN
CALSCALE:GREGORIAN
METHOD:PUBLISH
X-WR-CALNAME:La Madriguera Azul
X-ORIGINAL-URL:https://www.lamadrigueraazul.com
X-WR-CALDESC:Eventos para La Madriguera Azul
REFRESH-INTERVAL;VALUE=DURATION:PT1H
X-Robots-Tag:noindex
X-PUBLISHED-TTL:PT1H
BEGIN:VTIMEZONE
TZID:Europe/Madrid
BEGIN:DAYLIGHT
TZOFFSETFROM:+0100
TZOFFSETTO:+0200
TZNAME:CEST
DTSTART:20230326T010000
END:DAYLIGHT
BEGIN:STANDARD
TZOFFSETFROM:+0200
TZOFFSETTO:+0100
TZNAME:CET
DTSTART:20231029T010000
END:STANDARD
END:VTIMEZONE
BEGIN:VEVENT
DTSTART;TZID=Europe/Madrid:20230304T163000
DTEND;TZID=Europe/Madrid:20230304T223000
DTSTAMP:20260421T151044
CREATED:20230223T083555Z
LAST-MODIFIED:20230223T084832Z
UID:1421-1677947400-1677969000@www.lamadrigueraazul.com
SUMMARY:Ser en la Voz con LA BALDOSA FLOTANTE
DESCRIPTION:Sábado 4 de marzo\,  en La Madriguera Azul\, Secadura\, Cantabria. \n\n\n\n\n\n\n\n\n\n\n\n\n\n\n\n\n\n\n\n\n\n\nTaller *SER EN LA VOZ* (16:30h-19:30h). Dirigido a personas (con o sin experiencia en el trabajo vocal) que deseen mejorar su relación con la voz\, jugando y probando desde un enfoque musicoterapeútico.\n– Escuchando y explorando las vibraciones de nuestro propio cuerpo.\n– Conectando con nuestro sonido\, con una nota\, y hacia la belleza del canto indio.\n-La musicalidad en la voz hablada.\n– Participando en el canto y la escucha dentro del grupo\, en un círculo de confianza. \n*Imparte:*  David Larrinaga; musicoterapeuta\, compositor\, cantante\, músico multiinstrumentista. \nSesión musical (20h) \nLa Baldosa Flotante en solitario\, con guitarra\, voz  y sitar\, interpretando canciones nuevas\, canciones clásicas\, improvisando en Ragas indios\, e invitando a una experiencia colectiva. \nAportación: Taller 30 euros\, \nConcierto 10 euros.\nTaller + Concierto 35. \nInfo y Reservas \nTlfno 647417888 (Elker) o\n677877227 (David) \nhttps://www.youtube.com/watch?v=KtyCcy5DIKg&t=2s
URL:https://www.lamadrigueraazul.com/evento/taller-clown-payass-sagrads/
LOCATION:La madriguera azul\, Camino la Isequilla nº97\, Secadura- Voto\, Cantabria\, 39764\, España
END:VEVENT
END:VCALENDAR